BEGIN:VCALENDAR
VERSION:2.0
CALSCALE:GREGORIAN
PRODID:adamgibbons/ics
METHOD:PUBLISH
X-PUBLISHED-TTL:PT1H
BEGIN:VEVENT
UID:2307@calendari.femudatraca.cat
SUMMARY:Ball amb 10/4 i Sedaç (Festival Cornamusam)
DTSTAMP:20260421T155813Z
DTSTART:20260523T160000Z
DTEND:20260523T190000Z
DESCRIPTION:El pati de l’Hospici d’Olot torna a ser escenari d’una ballada 
	de plaça d’alt\nnivell en motiu del Festival Cornamusam. Enguany comptarem
	 amb dos grups que ens\nfaran viatjar\, com sempre\, a través de la dansa 
	i els sons de les cornamuses.\n\nSergi Llena Mur porta una proposta que pa
	rteix de 10 composicions dedicades als\n4 Gegants de Graus: 10/4. Un treba
	ll que neix de la terra i per a la festa\, amb\nuna energia vital i alegre
	 que convida al ball des de la primera nota.\n\nSedaç és el nou projecte d
	els germans Martorell\, una proposta de ball que\nparteix de la música d’a
	rrel per explorar-ne les possibilitats des d’una mirada\ncontemporània i p
	ersonal. El projecte combina instruments tradicionals amb una\nsensibilita
	t actual\, posant el focus en el so\, la textura i el treball acurat\ndel 
	repertori.\n\nAquesta activitat és oberta i gratuïta\, però té un cost de 
	producció molt elevat\nque assumeix l'organització. Agrairem que en acabar
	 el ball contribuïu a\nsostenir el festival amb una visita a la barra i a 
	la resta de propostes que\nconformen el festival. Consulteu tota la progra
	mació del festival aquí.\n[https://www.cornamusam.cat/programacio]
URL:https://calendari.femudatraca.cat/event/ball-amb-104-i-sedac-festival-c
	ornamusam
GEO:42.1811875;2.489065
LOCATION:Pati de l'Hospici - 8\, Carrer de l'Hospici\, Malagrida\, Sant Cri
	stòfol les Fonts\, Olot\, Garrotxa\, Catalunya\, 17800\, España
STATUS:CONFIRMED
CATEGORIES:Ball català,ball de bot,Ball de plaça
X-ALT-DESC;FMTTYPE=text/html:<p>El pati de l’Hospici d’Olot torna a ser esc
	enari d’una ballada de plaça d’alt nivell en motiu del Festival Cornamusam
	. Enguany comptarem amb dos grups que ens faran viatjar, com sempre, a tra
	vés de la dansa i els sons de les cornamuses.</p><p><strong>Sergi Llena Mu
	r</strong> porta una proposta que parteix de 10 composicions dedicades als
	 4 Gegants de Graus: 10/4. Un treball que neix de la terra i per a la fest
	a, amb una energia vital i alegre que convida al ball des de la primera no
	ta.</p><p><strong>Sedaç</strong> és el nou projecte dels germans Martorell
	, una proposta de ball que parteix de la música d’arrel per explorar-ne le
	s possibilitats des d’una mirada contemporània i personal. El projecte com
	bina instruments tradicionals amb una sensibilitat actual, posant el focus
	 en el so, la textura i el treball acurat del repertori.</p><p><em>Aquesta
	 activitat és oberta i gratuïta, però té un cost de producció molt elevat 
	que assumeix l'organització. Agrairem que en acabar el ball contribuïu a s
	ostenir el festival amb una visita a la barra i a la resta de propostes qu
	e conformen el festival. </em><a href="https://www.cornamusam.cat/programa
	cio" target="_blank"><em>Consulteu tota la programació del festival aquí.<
	/em></a></p>
BEGIN:VALARM
ACTION:DISPLAY
DESCRIPTION:Ball amb 10/4 i Sedaç (Festival Cornamusam)
TRIGGER:-PT1H
END:VALARM
END:VEVENT
END:VCALENDAR
