BEGIN:VCALENDAR
VERSION:2.0
CALSCALE:GREGORIAN
PRODID:adamgibbons/ics
METHOD:PUBLISH
X-PUBLISHED-TTL:PT1H
BEGIN:VEVENT
UID:2308@calendari.femudatraca.cat
SUMMARY:Ballada de sardanes antigues amb Bram de Fusta (Festival Cornamusam
	)
DTSTAMP:20260421T174512Z
DTSTART:20260524T100000Z
DTEND:20260524T120000Z
DESCRIPTION:Després de l'èxit de la ballada de sardanes antigues de l'edici
	ó anterior del\nCornamusam\, el festival torna a acollir una activitat de 
	divulgació de la\nsardana en totes les seves vessants.\n\nBram de Fusta és
	 una cobla de tres quartans que neix amb la voluntat de\nrecuperar i fer r
	eviure el so original de la sardana\, apropant-lo a la manera\ncom es toca
	va abans de la normalització de la cobla moderna.\n\nEl projecte parteix d
	’una recerca musical i històrica que posa el focus en les\nsardanes clàssi
	ques més conegudes\, però també en sardanes curtes i repertori més\nantic.
	 La incorporació del sac de gemecs dins la formació —instrument clau en\nl
	es cobles primitives— permet restituir una sonoritat més rústica i arrelad
	a al\nterritori. La cobla està formada per Roger Andorrà (tarota de fa)\, 
	Pau Benítez\n(flabiol i tamborí) i Anna Viader (sac de gemecs).\n\nPrèviam
	ent al ball hi haurà un taller per repassar els punts clau de les\nsardane
	s antigues i les sardanes modernes\, impartit per Joan Naspleda i Ramon\nC
	omas.\n\nAquesta activitat és oberta i gratuïta\, però té un cost de produ
	cció molt elevat\nque assumeix l'organització. Agrairem que en acabar el b
	all contribuïu a\nsostenir el festival amb una visita a la barra i a la re
	sta de propostes que\nconformen el festival. Consulteu tota la programació
	 del festival aquí.\n[https://www.cornamusam.cat/programacio]
URL:https://calendari.femudatraca.cat/event/ballada-de-sardanes-antigues-am
	b-bram-de-fusta-festival-cornamusam
GEO:42.1828805;2.4870267
LOCATION:Passeig del Firal - Malagrida\, Sant Cristòfol les Fonts\, Olot\, 
	Garrotxa\, Catalunya\, 17800\, España
STATUS:CONFIRMED
CATEGORIES:Ball català,Ball de plaça,Sardana
X-ALT-DESC;FMTTYPE=text/html:<p>Després de l'èxit de la ballada de sardanes
	 antigues de l'edició anterior del Cornamusam, el festival torna a acollir
	 una activitat de divulgació de la sardana en totes les seves vessants.</p
	><p><strong>Bram de Fusta</strong> és una cobla de tres quartans que neix 
	amb la voluntat de recuperar i fer reviure el so original de la sardana, a
	propant-lo a la manera com es tocava abans de la normalització de la cobla
	 moderna.</p><p>El projecte parteix d’una recerca musical i històrica que 
	posa el focus en les sardanes clàssiques més conegudes, però també en sard
	anes curtes i repertori més antic. La incorporació del sac de gemecs dins 
	la formació —instrument clau en les cobles primitives— permet restituir un
	a sonoritat més rústica i arrelada al territori. La cobla està formada per
	 Roger Andorrà (tarota de fa), Pau Benítez (flabiol i tamborí) i Anna Viad
	er (sac de gemecs).</p><p>Prèviament al ball hi haurà un taller per repass
	ar els punts clau de les sardanes antigues i les sardanes modernes, impart
	it per Joan Naspleda i Ramon Comas.</p><p><em>Aquesta activitat és oberta 
	i gratuïta, però té un cost de producció molt elevat que assumeix l'organi
	tzació. Agrairem que en acabar el ball contribuïu a sostenir el festival a
	mb una visita a la barra i a la resta de propostes que conformen el festiv
	al. </em><a href="https://www.cornamusam.cat/programacio" target="_blank">
	<em>Consulteu tota la programació del festival aquí.</em></a></p>
BEGIN:VALARM
ACTION:DISPLAY
DESCRIPTION:Ballada de sardanes antigues amb Bram de Fusta (Festival Cornam
	usam)
TRIGGER:-PT1H
END:VALARM
END:VEVENT
END:VCALENDAR
