BEGIN:VCALENDAR
VERSION:2.0
CALSCALE:GREGORIAN
PRODID:adamgibbons/ics
METHOD:PUBLISH
X-PUBLISHED-TTL:PT1H
BEGIN:VEVENT
UID:2310@calendari.femudatraca.cat
SUMMARY:Dia de la dansa\, amb Xuriach
DTSTAMP:20260421T214732Z
DTSTART:20260424T173000Z
DTEND:20260424T210000Z
DESCRIPTION:Aquest divendres vine aviat! Programa especial pel dia de la da
	nsa a les 19:30!\n\nPer celebrar el dia internacional de la dansa\, la com
	panyia Xuriach de música i\ndansa antiga\, el quartet Codina&Riera\, la Co
	ral Sinera i el Cor Jove L'Arc\ns'uneixen per fer una gran vetllada festiv
	a dedicada al ball\, la música i la\ncançó per a ballar. Una vetllada coor
	ganitzada pel Museu d'història de Barcelona\ni l'Associació Balls a la Pla
	ça del Rei.\n\nA les 19:30 mostra de balls i danses històriques a càrrec d
	e Xuriach\, centrades\nen el nostre Renaixement i Barroc\, amb vestuari d'
	època i instruments originals.\n\nA les 20:15 taller participatiu amb el p
	úblic d'algunes de les danses més\nfamoses.\n\nA les 21h concert-ball part
	icipatiu amb Codina&Riera 4tet amb els ballables de\nparella i de grup més
	 habituals dels Divendres a la Plaça del Rei.\n\nCulminarà amb el Sarau! d
	e Xuriach\, la Coral Sinera i el Cor Jove L'Arc\, una\nproposta de ball ob
	ert a peu de plaça i en acústic\, on el motor serà el cant\nantic\, tradic
	ional i d'arreu\, en context festiu i actual.\n\nAnna Romaní: Dansa\, cast
	anyoles\, cant i violí. Tallerista.\n\nJoan Codina: Dansa\, castanyoles\, 
	cant i flautes. Tallerista.\n\nFrancesc Tomàs: Llaüt\, violí i cant.\n\nMa
	rc Riera: Flabiol i tamborino i cant.\n\nOriol Casadevall: Contrabaix hist
	òric.\n\nYago Calbet: Corrandes.\n\nCoral Sinera (dir. Isabel Mantecón) i 
	Cor Jove L'Arc (dir. Emilio de la Linde)
URL:https://calendari.femudatraca.cat/event/dia-de-la-dansa-amb-xuriach
GEO:41.3841563;2.1773945332046045
LOCATION:a la Plaça del Rei - Plaça del Rei s/s\, 08002 Barcelona
STATUS:CONFIRMED
CATEGORIES:
X-ALT-DESC;FMTTYPE=text/html:<p>Aquest divendres vine aviat! Programa espec
	ial pel dia de la dansa a les 19:30!</p><p>Per celebrar el dia internacion
	al de la dansa, la companyia Xuriach de música i dansa antiga, el quartet 
	Codina&amp;Riera, la Coral Sinera i el Cor Jove L'Arc s'uneixen per fer un
	a gran vetllada festiva dedicada al ball, la música i la cançó per a balla
	r. Una vetllada coorganitzada pel Museu d'història de Barcelona i l'Associ
	ació Balls a la Plaça del Rei.</p><p>A les 19:30 mostra de balls i danses 
	històriques a càrrec de Xuriach, centrades en el nostre Renaixement i Barr
	oc, amb vestuari d'època i instruments originals.</p><p>A les 20:15 taller
	 participatiu amb el públic d'algunes de les danses més famoses.</p><p>A l
	es 21h concert-ball participatiu amb Codina&amp;Riera 4tet amb els ballabl
	es de parella i de grup més habituals dels Divendres a la Plaça del Rei.</
	p><p>Culminarà amb el Sarau! de Xuriach, la Coral Sinera i el Cor Jove L'A
	rc, una proposta de ball obert a peu de plaça i en acústic, on el motor se
	rà el cant antic, tradicional i d'arreu, en context festiu i actual.</p><p
	>Anna Romaní: Dansa, castanyoles, cant i violí. Tallerista.</p><p>Joan Cod
	ina: Dansa, castanyoles, cant i flautes. Tallerista.</p><p>Francesc Tomàs:
	 Llaüt, violí i cant.</p><p>Marc Riera: Flabiol i tamborino i cant.</p><p>
	Oriol Casadevall: Contrabaix històric.</p><p>Yago Calbet: Corrandes.</p><p
	>Coral Sinera (dir. Isabel Mantecón) i Cor Jove L'Arc (dir. Emilio de la L
	inde)</p>
BEGIN:VALARM
ACTION:DISPLAY
DESCRIPTION:Dia de la dansa, amb Xuriach
TRIGGER:-PT1H
END:VALARM
END:VEVENT
END:VCALENDAR
