BEGIN:VCALENDAR
VERSION:2.0
CALSCALE:GREGORIAN
PRODID:adamgibbons/ics
METHOD:PUBLISH
X-PUBLISHED-TTL:PT1H
BEGIN:VEVENT
UID:2309@calendari.femudatraca.cat
SUMMARY:DINAR POPULAR I BALL CONCERT FOLK A CASTELLGALÍ
DTSTAMP:20260421T190521Z
DTSTART:20260516T163000Z
DTEND:20260516T183000Z
DESCRIPTION:DIA DEL SOCI A CASTELLGALÍ\n\nDes de la junta de L' Associació 
	Tradiball Endansa us convidem un any més a\ncompartir tots plegats la cele
	bració del dia del soci\, dinar (cal inscripció\nprèvia) i ball folk amb a
	l grup Pim Pam Folk. Obert a tothom.\n\nPer més informació i inscripció cl
	icar el següent enllaç:\nhttps://forms.gle/Ep94PmrbxBr5bgi9A [https://form
	s.gle/Ep94PmrbxBr5bgi9A]
URL:https://calendari.femudatraca.cat/event/dinar-popular-i-ball-concert-fo
	lk-a-castellgali
LOCATION:Castellgalí - El Casal - Plaça Catalunya
STATUS:CONFIRMED
CATEGORIES:
X-ALT-DESC;FMTTYPE=text/html:<p>DIA DEL SOCI A CASTELLGALÍ</p><p>Des de la 
	junta de L' Associació Tradiball Endansa us convidem un any més a comparti
	r tots plegats la celebració del dia del soci, dinar (cal inscripció prèvi
	a) i ball folk amb al grup Pim Pam Folk. Obert a tothom.</p><p>Per més inf
	ormació i inscripció clicar el següent enllaç:  <a href="https://forms.gle
	/Ep94PmrbxBr5bgi9A" target="_blank">https://forms.gle/Ep94PmrbxBr5bgi9A</a
	></p>
BEGIN:VALARM
ACTION:DISPLAY
DESCRIPTION:DINAR POPULAR I BALL CONCERT FOLK A CASTELLGALÍ
TRIGGER:-PT1H
END:VALARM
END:VEVENT
END:VCALENDAR
