BEGIN:VCALENDAR
VERSION:2.0
CALSCALE:GREGORIAN
PRODID:adamgibbons/ics
METHOD:PUBLISH
X-PUBLISHED-TTL:PT1H
BEGIN:VEVENT
UID:2303@calendari.femudatraca.cat
SUMMARY:FESTA'L RIU- Taller de ball folk
DTSTAMP:20260420T183726Z
DTSTART:20260426T140000Z
DTEND:20260426T150000Z
DESCRIPTION:📝26 d'Abril\, FESTA'L RIU!\n\n🕓Taller a les 16h i punt de troba
	da amb músics a les 17h.\n\n📌Llera del riu Anoia (Ronda del rec a l'alçada
	 del tanatori d'Igualada)\n\n🏞Una proposta refrescant a l'aire lliure\, me
	ntre col.laborem amb els\norganitzadors\, per un entorn protegit i sosteni
	ble!!\n\n✨Millor impossible‼️
URL:https://calendari.femudatraca.cat/event/festal-riu-taller-de-ball-folk
LOCATION:Llera del riu Anoia - Ronda del rec\, a l'alçada del Tanatori
STATUS:CONFIRMED
CATEGORIES:
X-ALT-DESC;FMTTYPE=text/html:<p>📝26 d'Abril, FESTA'L RIU!</p><p>🕓Taller a l
	es 16h i punt de trobada amb músics a les 17h.</p><p>📌Llera del riu Anoia 
	(Ronda del rec a l'alçada del tanatori d'Igualada)</p><p>🏞Una proposta ref
	rescant a l'aire lliure, mentre col.laborem amb els organitzadors, per un 
	entorn protegit i sostenible!!</p><p>✨Millor impossible‼️</p>
BEGIN:VALARM
ACTION:DISPLAY
DESCRIPTION:FESTA'L RIU- Taller de ball folk
TRIGGER:-PT1H
END:VALARM
END:VEVENT
END:VCALENDAR
