BEGIN:VCALENDAR
VERSION:2.0
CALSCALE:GREGORIAN
PRODID:adamgibbons/ics
METHOD:PUBLISH
X-PUBLISHED-TTL:PT1H
BEGIN:VEVENT
UID:2306@calendari.femudatraca.cat
SUMMARY:Punt de Trobada
DTSTAMP:20260421T003439Z
DTSTART:20260426T160000Z
DTEND:20260426T180000Z
DESCRIPTION:...I tancarem el cap de setmana de La Rosa Folk\, com no\, ball
	ant!\n\nEls Punts de Trobada són una sessió improvisada de ball folk\, amb
	 la\nparticipació de músics i dansaires amateurs\, experimentats o profess
	ionals tan\nse val! Tothom hi és benvingut a fer ballaruga!\n\nAls músics 
	que voleu venir a tastar què és això de la música de ball\, us\nconvidem a
	 tocar amb nosaltres i a descobrir l'essència de l'ofici\, amb l'únic\nreq
	uisit que allò que soni sigui ballable.\n\nEls Punts de Trobada de l'Oca R
	osa es fan l'últim diumenge de mes a la tarda a\nla plaça de la vella de V
	ic (plaça Gaudí)
URL:https://calendari.femudatraca.cat/event/punt-de-trobada-4
GEO:41.9283755;2.253302800834604
LOCATION:Vic - Plaça Antoni Gaudí (plaça de la Vella)
STATUS:CONFIRMED
CATEGORIES:Ball Folk,L'Oca Rosa,Osona,Punt de trobada
X-ALT-DESC;FMTTYPE=text/html:<p>...I tancarem el cap de setmana de La Rosa 
	Folk, com no, ballant!</p><p> Els Punts de Trobada són una sessió improvis
	ada de ball folk, amb la participació de músics i dansaires amateurs, expe
	rimentats o professionals tan se val! Tothom hi és benvingut a fer ballaru
	ga!<br><br>Als músics que voleu venir a tastar què és això de la música de
	 ball, us convidem a tocar amb nosaltres i a descobrir l'essència de l'ofi
	ci, amb l'únic requisit que allò que soni sigui ballable.<br><br>Els Punts
	 de Trobada de l'Oca Rosa es fan l'últim diumenge de mes a la tarda a la p
	laça de la vella de Vic (plaça Gaudí)</p>
BEGIN:VALARM
ACTION:DISPLAY
DESCRIPTION:Punt de Trobada
TRIGGER:-PT1H
END:VALARM
END:VEVENT
END:VCALENDAR
