BEGIN:VCALENDAR
VERSION:2.0
CALSCALE:GREGORIAN
PRODID:adamgibbons/ics
METHOD:PUBLISH
X-PUBLISHED-TTL:PT1H
BEGIN:VEVENT
UID:2322@calendari.femudatraca.cat
SUMMARY:PUNT DE TROBADA
DTSTAMP:20260424T210758Z
DTSTART:20260426T150000Z
DTEND:20260426T160000Z
DESCRIPTION:☝️😜Recordeu que aquest diumenge 26 d'abril\, a Igualada fem la F
	ESTA'L RIU!\n🐟🐠💦Amb mil activitats per triar i remenar!!\n🧘‍♀️🤸‍♂️🚣🏻‍♀️🤹🎨🎤🥁🎳🎯🪁🏃‍♀️\n\n\
	n\nDe ball i música folk:\n\n\n\n12h - ANSA X DANSA\, amb contes\, animaci
	ó infantil i danses folk.\n\n\n\n16h - TALLER d'iniciació al ball folk.\n\
	n\n\n17h - PUNT de TROBADA de músics i balladors.\n\n\n\n⚠️Avui divendres 2
	4 d'abril\, últim dia per reservar paella!!\n\nhttps://docs.google.com/for
	ms/d/e/1FAIpQLSerJWQjBho9MHhS28ztw05fD2gB4IgUH0HJM88aCd5YHd5gew/viewform?u
	tm_source=ig&utm_medium=social&utm_content=link_in_bio\n[https://docs.goog
	le.com/forms/d/e/1FAIpQLSerJWQjBho9MHhS28ztw05fD2gB4IgUH0HJM88aCd5YHd5gew/
	viewform?utm_source=ig&utm_medium=social&utm_content=link_in_bio]\n\n\n\n📍
	Llera del Riu Anoia a l'alçada del Molí de l'Abadia i Tanatori. (Ronda del
	\nrec\, Igualada)
URL:https://calendari.femudatraca.cat/event/punt-de-trobada-5
LOCATION:Llera del riu Anoia - Ronda del rec\, a l'alçada del Tanatori
STATUS:CONFIRMED
CATEGORIES:
X-ALT-DESC;FMTTYPE=text/html:<p>☝️😜Recordeu que aquest diumenge 26 d'abril, 
	a Igualada fem la FESTA'L RIU! 🐟🐠💦Amb mil activitats per triar i remenar!!
	 🧘‍♀️🤸‍♂️🚣🏻‍♀️🤹🎨🎤🥁🎳🎯🪁🏃‍♀️</p><p></p><p>De ball i música folk:</p><p></p><p>12h - ANSA X
	 DANSA, amb contes, animació infantil i danses folk.</p><p></p><p>16h - TA
	LLER d'iniciació al ball folk.</p><p></p><p>17h - PUNT de TROBADA de músic
	s i balladors.</p><p></p><p>⚠️Avui divendres 24 d'abril, últim dia per rese
	rvar paella!!</p><p><a href="https://docs.google.com/forms/d/e/1FAIpQLSerJ
	WQjBho9MHhS28ztw05fD2gB4IgUH0HJM88aCd5YHd5gew/viewform?utm_source=ig&amp;u
	tm_medium=social&amp;utm_content=link_in_bio" target="_blank">https://docs
	.google.com/forms/d/e/1FAIpQLSerJWQjBho9MHhS28ztw05fD2gB4IgUH0HJM88aCd5YHd
	5gew/viewform?utm_source=ig&amp;utm_medium=social&amp;utm_content=link_in_
	bio</a></p><p></p><p>📍Llera del Riu Anoia a l'alçada del Molí de l'Abadia 
	i Tanatori. (Ronda del rec, Igualada)</p>
BEGIN:VALARM
ACTION:DISPLAY
DESCRIPTION:PUNT DE TROBADA
TRIGGER:-PT1H
END:VALARM
END:VEVENT
END:VCALENDAR
