BEGIN:VCALENDAR
VERSION:2.0
CALSCALE:GREGORIAN
PRODID:adamgibbons/ics
METHOD:PUBLISH
X-PUBLISHED-TTL:PT1H
BEGIN:VEVENT
UID:2317@calendari.femudatraca.cat
SUMMARY:TALLER DE DANSES D'ARREU DEL MÓN A MANRESA
DTSTAMP:20260422T224618Z
DTSTART:20260509T163000Z
DTEND:20260509T183000Z
URL:https://calendari.femudatraca.cat/event/taller-de-danses-darreu-del-mon
	-a-manresa-42
GEO:41.7269244;1.8291842
LOCATION:Casa Caritat de Manresa - Carrer Verge de l'Alba\, 5-7 Manresa
STATUS:CONFIRMED
CATEGORIES:
BEGIN:VALARM
ACTION:DISPLAY
DESCRIPTION:TALLER DE DANSES D'ARREU DEL MÓN A MANRESA
TRIGGER:-PT1H
END:VALARM
END:VEVENT
END:VCALENDAR
