BEGIN:VCALENDAR
VERSION:2.0
CALSCALE:GREGORIAN
PRODID:adamgibbons/ics
METHOD:PUBLISH
X-PUBLISHED-TTL:PT1H
BEGIN:VEVENT
UID:2313@calendari.femudatraca.cat
SUMMARY:Tallers de balls tradicionals a Caldes de Malavella
DTSTAMP:20260422T194706Z
DTSTART:20260606T090000Z
DTEND:20260606T110000Z
DESCRIPTION:Un nou seguit de quatre tallers de balls tradicionals a Caldes 
	de Malavella (la\nSelva) els dissabtes 18 d'abril\, 16 de maig i 6 i 20 de
	 juny d'11 a 13 h al\nCasino de Caldes. Obert i gratuït\; tothom hi és con
	vidat! Organitza: Ateneu de\nCaldes de Malavella.\n\nhttps://www.escampill
	em.cat [https://www.escampillem.cat]
URL:https://calendari.femudatraca.cat/event/tallers-de-balls-tradicionals-a
	-caldes-de-malavella-6
LOCATION:Casino de Caldes de Malavella - Carrer de Mossèn Cinto Verdaguer\,
	 11\, 17455 Caldes de Malavella
STATUS:CONFIRMED
CATEGORIES:
X-ALT-DESC;FMTTYPE=text/html:<p>Un nou seguit de quatre tallers de balls tr
	adicionals a Caldes de Malavella (la Selva) els dissabtes <strong>18 d'abr
	il</strong>, <strong>16 de maig</strong> i <strong>6</strong> i <strong>20
	 de juny</strong> d'<strong>11 a 13 h</strong>&nbsp;al Casino de Caldes. O
	bert i gratuït; tothom hi és convidat! Organitza: Ateneu de Caldes de Mala
	vella.</p><p><a href="https://www.escampillem.cat" target="_blank">https:/
	/www.escampillem.cat</a></p>
BEGIN:VALARM
ACTION:DISPLAY
DESCRIPTION:Tallers de balls tradicionals a Caldes de Malavella
TRIGGER:-PT1H
END:VALARM
END:VEVENT
END:VCALENDAR
