BEGIN:VCALENDAR
VERSION:2.0
CALSCALE:GREGORIAN
PRODID:adamgibbons/ics
METHOD:PUBLISH
X-PUBLISHED-TTL:PT1H
BEGIN:VEVENT
UID:2301@calendari.femudatraca.cat
SUMMARY:Taller de dansa tradicional
DTSTAMP:20260424T133820Z
DTSTART:20260424T160000Z
DTEND:20260424T170000Z
URL:https://calendari.femudatraca.cat/event/taller-de-dansa-tradicional-28
LOCATION:Casinet d'Hostafrancs - Carrer Rector Triadó\, 53
STATUS:CONFIRMED
CATEGORIES:#Hostafrancs,Taller de Danses,#balldeplaça,#Barcelona
END:VEVENT
BEGIN:VEVENT
UID:2280@calendari.femudatraca.cat
SUMMARY:Píndola de Ball Folk
DTSTAMP:20260424T133820Z
DTSTART:20260424T170000Z
DTEND:20260424T190000Z
URL:https://calendari.femudatraca.cat/event/pindola-de-ball-folk
LOCATION:Centre cívic de la Guixa\, Vic - Carrer del Pla del Maset\, 08505 
	Sentfores\, Vic\, Barcelona
STATUS:CONFIRMED
CATEGORIES:L'Oca Rosa,Taller de Danses,Ball Folk
END:VEVENT
BEGIN:VEVENT
UID:2180@calendari.femudatraca.cat
SUMMARY:La Rosa Folk
DTSTAMP:20260424T133820Z
DTSTART:20260425T080000Z
DTEND:20260425T215500Z
URL:https://calendari.femudatraca.cat/event/la-rosa-folk
LOCATION:Centre cívic de la Guixa\, Vic - Carrer del Pla del Maset\, 08505 
	Sentfores\, Vic\, Barcelona
STATUS:CONFIRMED
CATEGORIES:Taller de Danses,Osona,L'Oca Rosa,Ball Folk
END:VEVENT
BEGIN:VEVENT
UID:2245@calendari.femudatraca.cat
SUMMARY:DANSES AL CARRER: Curs de danses tradicionals - 3r trimestre
DTSTAMP:20260424T133820Z
DTSTART:20260427T190000Z
DTEND:20260427T203000Z
URL:https://calendari.femudatraca.cat/event/danses-al-carrer-curs-de-danses
	-tradicionals-3r-trimestre-1
LOCATION:Casal Popular El Tallaret - la Creu Alta\, Sabadell\, Vallès Occid
	ental\, Catalunya\, 08206\, España
STATUS:CONFIRMED
CATEGORIES:Taller de Danses
END:VEVENT
BEGIN:VEVENT
UID:2154@calendari.femudatraca.cat
SUMMARY:TREUREBALL - TERRASSA - Taller de danses del món
DTSTAMP:20260424T133820Z
DTSTART:20260429T180000Z
DTEND:20260429T193000Z
URL:https://calendari.femudatraca.cat/event/treureball-terrassa-taller-de-d
	anses-del-mon-88
LOCATION:Local Acondicionament - Sala Gran - Carrer de Joaquim Folguera - T
	errassa
STATUS:CONFIRMED
CATEGORIES:danses Terrassa,Taller de Danses,Treureball,Ball Folk,danses del
	 món
END:VEVENT
BEGIN:VEVENT
UID:2217@calendari.femudatraca.cat
SUMMARY:Taller "Expolarció d'un possible recorregut històiric de la sardana
	"
DTSTAMP:20260424T133820Z
DTSTART:20260504T173000Z
DTEND:20260504T183000Z
URL:https://calendari.femudatraca.cat/event/taller-expolarcio-dun-possible-
	recorregut-histoiric-de-la-sardana-2
LOCATION:Teatre-Auditori Emma Vilarasau - Sant Cugat del Vallès\, Vallès Oc
	cidental\, Catalunya\, España
STATUS:CONFIRMED
CATEGORIES:Taller de Danses
END:VEVENT
BEGIN:VEVENT
UID:2292@calendari.femudatraca.cat
SUMMARY:ATENEU SANTCUGATENC: Taller “Ball folk – Balls de plaça”
DTSTAMP:20260424T133820Z
DTSTART:20260504T190000Z
DTEND:20260504T200000Z
URL:https://calendari.femudatraca.cat/event/ateneu-santcugatenc-taller-ball
	-folk-balls-de-placa-31
LOCATION:Ateneu Santcugatenc - 16\, Avinguda de Gràcia\, Sant Cugat del Val
	lès\, Vallès Occidental\, Catalunya\, 08172\, España
STATUS:CONFIRMED
CATEGORIES:Taller de Danses
END:VEVENT
BEGIN:VEVENT
UID:2155@calendari.femudatraca.cat
SUMMARY:TREUREBALL - TERRASSA - Taller de danses del món
DTSTAMP:20260424T133820Z
DTSTART:20260506T180000Z
DTEND:20260506T193000Z
URL:https://calendari.femudatraca.cat/event/treureball-terrassa-taller-de-d
	anses-del-mon-89
LOCATION:Local Acondicionament - Sala Gran - Carrer de Joaquim Folguera - T
	errassa
STATUS:CONFIRMED
CATEGORIES:Treureball,danses Terrassa,Taller de Danses,Ball Folk,danses del
	 món
END:VEVENT
BEGIN:VEVENT
UID:2283@calendari.femudatraca.cat
SUMMARY:Talhièr de danças occitanas en occitan - Autes rondèus
DTSTAMP:20260424T133820Z
DTSTART:20260508T160000Z
DTEND:20260508T180000Z
URL:https://calendari.femudatraca.cat/event/talhier-de-dancas-occitanas-en-
	occitan-autes-rondeus
LOCATION:CAOC - 42\, Carrer de la Providència\, Gràcia Nova\, Gràcia\, Barc
	elona\, Barcelonès\, 08024\, España
STATUS:CONFIRMED
CATEGORIES:Taller de Danses
END:VEVENT
BEGIN:VEVENT
UID:2246@calendari.femudatraca.cat
SUMMARY:DANSES AL CARRER: Curs de danses tradicionals - 3r trimestre
DTSTAMP:20260424T133820Z
DTSTART:20260511T190000Z
DTEND:20260511T203000Z
URL:https://calendari.femudatraca.cat/event/danses-al-carrer-curs-de-danses
	-tradicionals-3r-trimestre-2
LOCATION:Casal Popular El Tallaret - la Creu Alta\, Sabadell\, Vallès Occid
	ental\, Catalunya\, 08206\, España
STATUS:CONFIRMED
CATEGORIES:Taller de Danses
END:VEVENT
BEGIN:VEVENT
UID:2259@calendari.femudatraca.cat
SUMMARY:TREUREBALL - TERRASSA - Taller de danses del món
DTSTAMP:20260424T133820Z
DTSTART:20260513T180000Z
DTEND:20260513T193000Z
URL:https://calendari.femudatraca.cat/event/treureball-terrassa-taller-de-d
	anses-del-mon-90
LOCATION:Local Acondicionament - Sala Gran - Carrer de Joaquim Folguera - T
	errassa
STATUS:CONFIRMED
CATEGORIES:danses del món,danses Terrassa,Taller de Danses,Treureball,Ball 
	Folk
END:VEVENT
BEGIN:VEVENT
UID:2251@calendari.femudatraca.cat
SUMMARY:Taller de ball Folk
DTSTAMP:20260424T133820Z
DTSTART:20260514T163000Z
DTEND:20260514T180000Z
URL:https://calendari.femudatraca.cat/event/taller-de-ball-folk
LOCATION:Societat Cultural i Esportiva La Lira - Coroleu\, 15. 08030. Barce
	lona
STATUS:CONFIRMED
CATEGORIES:Taller de Danses,Ball Folk
END:VEVENT
BEGIN:VEVENT
UID:2284@calendari.femudatraca.cat
SUMMARY:Talhièr de danças occitanas en occitan - Branlo d'Aussau
DTSTAMP:20260424T133820Z
DTSTART:20260515T160000Z
DTEND:20260515T180000Z
URL:https://calendari.femudatraca.cat/event/talhier-de-dancas-occitanas-en-
	occitan-branlo
LOCATION:CAOC - 42\, Carrer de la Providència\, Gràcia Nova\, Gràcia\, Barc
	elona\, Barcelonès\, 08024\, España
STATUS:CONFIRMED
CATEGORIES:Taller de Danses
END:VEVENT
BEGIN:VEVENT
UID:2218@calendari.femudatraca.cat
SUMMARY:Taller "Expolarció d'un possible recorregut històiric de la sardana
	"
DTSTAMP:20260424T133820Z
DTSTART:20260518T173000Z
DTEND:20260518T183000Z
URL:https://calendari.femudatraca.cat/event/taller-expolarcio-dun-possible-
	recorregut-histoiric-de-la-sardana-3
LOCATION:Teatre-Auditori Emma Vilarasau - Sant Cugat del Vallès\, Vallès Oc
	cidental\, Catalunya\, España
STATUS:CONFIRMED
CATEGORIES:Taller de Danses
END:VEVENT
BEGIN:VEVENT
UID:2293@calendari.femudatraca.cat
SUMMARY:ATENEU SANTCUGATENC: Taller “Ball folk – Balls de plaça”
DTSTAMP:20260424T133820Z
DTSTART:20260518T190000Z
DTEND:20260518T200000Z
URL:https://calendari.femudatraca.cat/event/ateneu-santcugatenc-taller-ball
	-folk-balls-de-placa-32
LOCATION:Ateneu Santcugatenc - 16\, Avinguda de Gràcia\, Sant Cugat del Val
	lès\, Vallès Occidental\, Catalunya\, 08172\, España
STATUS:CONFIRMED
CATEGORIES:Taller de Danses
END:VEVENT
BEGIN:VEVENT
UID:2260@calendari.femudatraca.cat
SUMMARY:TREUREBALL - TERRASSA - Taller de danses del món
DTSTAMP:20260424T133820Z
DTSTART:20260520T180000Z
DTEND:20260520T193000Z
URL:https://calendari.femudatraca.cat/event/treureball-terrassa-taller-de-d
	anses-del-mon-91
LOCATION:Local Acondicionament - Sala Gran - Carrer de Joaquim Folguera - T
	errassa
STATUS:CONFIRMED
CATEGORIES:danses Terrassa,danses del món,Ball Folk,Treureball,Taller de Da
	nses
END:VEVENT
BEGIN:VEVENT
UID:2252@calendari.femudatraca.cat
SUMMARY:Taller de ball Folk
DTSTAMP:20260424T133820Z
DTSTART:20260521T163000Z
DTEND:20260521T180000Z
URL:https://calendari.femudatraca.cat/event/taller-de-ball-folk-1
LOCATION:Societat Cultural i Esportiva La Lira - Coroleu\, 15. 08030. Barce
	lona
STATUS:CONFIRMED
CATEGORIES:Ball Folk,Taller de Danses
END:VEVENT
BEGIN:VEVENT
UID:2285@calendari.femudatraca.cat
SUMMARY:Talhièr de danças occitanas en occitan - Pichòtas danças
DTSTAMP:20260424T133820Z
DTSTART:20260522T160000Z
DTEND:20260522T180000Z
URL:https://calendari.femudatraca.cat/event/talhier-de-dancas-occitanas-en-
	occitan-pichotas-dancas
LOCATION:CAOC - 42\, Carrer de la Providència\, Gràcia Nova\, Gràcia\, Barc
	elona\, Barcelonès\, 08024\, España
STATUS:CONFIRMED
CATEGORIES:Taller de Danses
END:VEVENT
BEGIN:VEVENT
UID:1715@calendari.femudatraca.cat
SUMMARY:Taller de Ball de Bot a Vic (La Guixa)
DTSTAMP:20260424T133820Z
DTSTART:20260523T080000Z
DTEND:20260523T110000Z
URL:https://calendari.femudatraca.cat/event/taller-de-ball-de-bot-a-vic-lor
	feo-1
LOCATION:Centre cívic de la Guixa\, Vic - Carrer del Pla del Maset\, 08505 
	Sentfores\, Vic\, Barcelona
STATUS:CONFIRMED
CATEGORIES:Taller de Danses,Osona,L'Oca Rosa,Ball Folk,ball de bot,Vic
END:VEVENT
BEGIN:VEVENT
UID:2294@calendari.femudatraca.cat
SUMMARY:ATENEU SANTCUGATENC: Taller d'iniciació “Ball folk – Balls de plaça
	”
DTSTAMP:20260424T133820Z
DTSTART:20260523T093000Z
DTEND:20260523T110000Z
URL:https://calendari.femudatraca.cat/event/ateneu-santcugatenc-taller-dini
	ciacio-ball-folk-balls-de-placa
LOCATION:Ateneu Santcugatenc - 16\, Avinguda de Gràcia\, Sant Cugat del Val
	lès\, Vallès Occidental\, Catalunya\, 08172\, España
STATUS:CONFIRMED
CATEGORIES:Taller de Danses
END:VEVENT
BEGIN:VEVENT
UID:2247@calendari.femudatraca.cat
SUMMARY:DANSES AL CARRER: Curs de danses tradicionals - 3r trimestre
DTSTAMP:20260424T133820Z
DTSTART:20260525T190000Z
DTEND:20260525T203000Z
URL:https://calendari.femudatraca.cat/event/danses-al-carrer-curs-de-danses
	-tradicionals-3r-trimestre-3
LOCATION:Casal Popular El Tallaret - la Creu Alta\, Sabadell\, Vallès Occid
	ental\, Catalunya\, 08206\, España
STATUS:CONFIRMED
CATEGORIES:Taller de Danses
END:VEVENT
BEGIN:VEVENT
UID:2261@calendari.femudatraca.cat
SUMMARY:TREUREBALL - TERRASSA - Taller de danses del món
DTSTAMP:20260424T133820Z
DTSTART:20260527T180000Z
DTEND:20260527T193000Z
URL:https://calendari.femudatraca.cat/event/treureball-terrassa-taller-de-d
	anses-del-mon-92
LOCATION:Local Acondicionament - Sala Gran - Carrer de Joaquim Folguera - T
	errassa
STATUS:CONFIRMED
CATEGORIES:Taller de Danses,Treureball,Ball Folk,danses del món,danses Terr
	assa
END:VEVENT
BEGIN:VEVENT
UID:2219@calendari.femudatraca.cat
SUMMARY:Taller "Expolarció d'un possible recorregut històiric de la sardana
	"
DTSTAMP:20260424T133820Z
DTSTART:20260601T173000Z
DTEND:20260601T183000Z
URL:https://calendari.femudatraca.cat/event/taller-expolarcio-dun-possible-
	recorregut-histoiric-de-la-sardana-4
LOCATION:Teatre-Auditori Emma Vilarasau - Sant Cugat del Vallès\, Vallès Oc
	cidental\, Catalunya\, España
STATUS:CONFIRMED
CATEGORIES:Taller de Danses
END:VEVENT
BEGIN:VEVENT
UID:2295@calendari.femudatraca.cat
SUMMARY:ATENEU SANTCUGATENC: Taller “Ball folk – Balls de plaça”
DTSTAMP:20260424T133820Z
DTSTART:20260601T190000Z
DTEND:20260601T200000Z
URL:https://calendari.femudatraca.cat/event/ateneu-santcugatenc-taller-ball
	-folk-balls-de-placa-33
LOCATION:Ateneu Santcugatenc - 16\, Avinguda de Gràcia\, Sant Cugat del Val
	lès\, Vallès Occidental\, Catalunya\, 08172\, España
STATUS:CONFIRMED
CATEGORIES:Taller de Danses
END:VEVENT
BEGIN:VEVENT
UID:2262@calendari.femudatraca.cat
SUMMARY:TREUREBALL - TERRASSA - Taller de danses del món
DTSTAMP:20260424T133820Z
DTSTART:20260603T180000Z
DTEND:20260603T193000Z
URL:https://calendari.femudatraca.cat/event/treureball-terrassa-taller-de-d
	anses-del-mon-93
LOCATION:Local Acondicionament - Sala Gran - Carrer de Joaquim Folguera - T
	errassa
STATUS:CONFIRMED
CATEGORIES:Ball Folk,danses del món,danses Terrassa,Taller de Danses,Treure
	ball
END:VEVENT
BEGIN:VEVENT
UID:2175@calendari.femudatraca.cat
SUMMARY:Aplec d'Associacions FeMuDaTraCa
DTSTAMP:20260424T133820Z
DTSTART:20260607T090000Z
DTEND:20260607T180000Z
URL:https://calendari.femudatraca.cat/event/aplec-dassociacions-femudatraca
LOCATION:CA La Llavor - C/Penedés\, 2\, 08820 El Prat de Llobregat
STATUS:CONFIRMED
CATEGORIES:Taller de Danses,Ball Folk,Ballada
END:VEVENT
BEGIN:VEVENT
UID:2248@calendari.femudatraca.cat
SUMMARY:DANSES AL CARRER: Curs de danses tradicionals - 3r trimestre
DTSTAMP:20260424T133820Z
DTSTART:20260608T190000Z
DTEND:20260608T203000Z
URL:https://calendari.femudatraca.cat/event/danses-al-carrer-curs-de-danses
	-tradicionals-3r-trimestre-4
LOCATION:Casal Popular El Tallaret - la Creu Alta\, Sabadell\, Vallès Occid
	ental\, Catalunya\, 08206\, España
STATUS:CONFIRMED
CATEGORIES:Taller de Danses
END:VEVENT
BEGIN:VEVENT
UID:2263@calendari.femudatraca.cat
SUMMARY:TREUREBALL - TERRASSA - Taller de danses del món
DTSTAMP:20260424T133820Z
DTSTART:20260610T180000Z
DTEND:20260610T193000Z
URL:https://calendari.femudatraca.cat/event/treureball-terrassa-taller-de-d
	anses-del-mon-94
LOCATION:Local Acondicionament - Sala Gran - Carrer de Joaquim Folguera - T
	errassa
STATUS:CONFIRMED
CATEGORIES:Ball Folk,Treureball,Taller de Danses,danses Terrassa,danses del
	 món
END:VEVENT
BEGIN:VEVENT
UID:2220@calendari.femudatraca.cat
SUMMARY:Taller "Expolarció d'un possible recorregut històiric de la sardana
	"
DTSTAMP:20260424T133820Z
DTSTART:20260615T173000Z
DTEND:20260615T183000Z
URL:https://calendari.femudatraca.cat/event/taller-expolarcio-dun-possible-
	recorregut-histoiric-de-la-sardana-5
LOCATION:Teatre-Auditori Emma Vilarasau - Sant Cugat del Vallès\, Vallès Oc
	cidental\, Catalunya\, España
STATUS:CONFIRMED
CATEGORIES:Taller de Danses
END:VEVENT
BEGIN:VEVENT
UID:2296@calendari.femudatraca.cat
SUMMARY:ATENEU SANTCUGATENC: Taller “Ball folk – Balls de plaça”
DTSTAMP:20260424T133820Z
DTSTART:20260615T190000Z
DTEND:20260615T200000Z
URL:https://calendari.femudatraca.cat/event/ateneu-santcugatenc-taller-ball
	-folk-balls-de-placa-34
LOCATION:Ateneu Santcugatenc - 16\, Avinguda de Gràcia\, Sant Cugat del Val
	lès\, Vallès Occidental\, Catalunya\, 08172\, España
STATUS:CONFIRMED
CATEGORIES:Taller de Danses
END:VEVENT
BEGIN:VEVENT
UID:2264@calendari.femudatraca.cat
SUMMARY:TREUREBALL - TERRASSA - Taller de danses del món
DTSTAMP:20260424T133820Z
DTSTART:20260617T180000Z
DTEND:20260617T193000Z
URL:https://calendari.femudatraca.cat/event/treureball-terrassa-taller-de-d
	anses-del-mon-95
LOCATION:Local Acondicionament - Sala Gran - Carrer de Joaquim Folguera - T
	errassa
STATUS:CONFIRMED
CATEGORIES:danses Terrassa,danses del món,Ball Folk,Treureball,Taller de Da
	nses
END:VEVENT
BEGIN:VEVENT
UID:2265@calendari.femudatraca.cat
SUMMARY:TREUREBALL - TERRASSA - Taller de danses del món
DTSTAMP:20260424T133820Z
DTSTART:20260701T180000Z
DTEND:20260701T193000Z
URL:https://calendari.femudatraca.cat/event/treureball-terrassa-taller-de-d
	anses-del-mon-96
LOCATION:Plaça de la Torre del Palau - TERRASSA - Plaça de la Torre del Pal
	au - TERRASSA
STATUS:CONFIRMED
CATEGORIES:Treureball,Ball Folk,danses del món,danses Terrassa,Taller de Da
	nses
END:VEVENT
END:VCALENDAR
