BEGIN:VCALENDAR
VERSION:2.0
CALSCALE:GREGORIAN
PRODID:adamgibbons/ics
METHOD:PUBLISH
X-PUBLISHED-TTL:PT1H
BEGIN:VEVENT
UID:2304@calendari.femudatraca.cat
SUMMARY:BANDUOLERS: Ballada a l'Aplec de Sant Elies
DTSTAMP:20260420T221019Z
DTSTART:20260425T130000Z
DTEND:20260425T140000Z
URL:https://calendari.femudatraca.cat/event/banduolers-ballada-a-laplec-de-
	sant-elies
GEO:41.73113;2.3794756
LOCATION:Ermita de Sant Elies (Sant Pere de Vilamajor) - Camí de Sant Elies
	\, Sant Pere de Vilamajor\, Vallès Oriental\, Catalunya\, 08469\, España
STATUS:CONFIRMED
CATEGORIES:Ballada
END:VEVENT
END:VCALENDAR
