BEGIN:VCALENDAR
VERSION:2.0
CALSCALE:GREGORIAN
PRODID:adamgibbons/ics
METHOD:PUBLISH
X-PUBLISHED-TTL:PT1H
BEGIN:VEVENT
UID:2290@calendari.femudatraca.cat
SUMMARY:La Relliscada - balls folk/tradi a Reus
DTSTAMP:20260420T092031Z
DTSTART:20260421T170000Z
DTEND:20260421T190000Z
URL:https://calendari.femudatraca.cat/event/la-relliscada-balls-folktradi-a
	-reus-128
GEO:41.1610314;1.1035919
LOCATION:La Palma - Reus - C. Tívoli\, 8 - 43202 Reus
STATUS:CONFIRMED
CATEGORIES:Baix Camp,Camp de Tarragona,Reus
END:VEVENT
END:VCALENDAR
