BEGIN:VCALENDAR
VERSION:2.0
CALSCALE:GREGORIAN
PRODID:adamgibbons/ics
METHOD:PUBLISH
X-PUBLISHED-TTL:PT1H
BEGIN:VEVENT
UID:2320@calendari.femudatraca.cat
SUMMARY:L'Esbartjo. Vermuts i a la dansa
DTSTAMP:20260423T133844Z
DTSTART:20260425T163000Z
DTEND:20260425T173000Z
URL:https://calendari.femudatraca.cat/event/lesbartjo-vermuts-i-a-la-dansa-
	2
LOCATION:Plaça Can Climent. Barcelona - Carrer de Viriat\, 13 Barcelona
STATUS:CONFIRMED
CATEGORIES:Ball de plaça,Ballada,Barcelona,Sants,#vermutialadansa
END:VEVENT
END:VCALENDAR
