BEGIN:VCALENDAR
VERSION:2.0
CALSCALE:GREGORIAN
PRODID:adamgibbons/ics
METHOD:PUBLISH
X-PUBLISHED-TTL:PT1H
BEGIN:VEVENT
UID:2324@calendari.femudatraca.cat
SUMMARY:Curs de Balfolk Europeu a la Torre de la Sagrera
DTSTAMP:20260425T103847Z
DTSTART:20260429T173000Z
DTEND:20260429T184500Z
DESCRIPTION:Bon dia!\n\nJa comença la nova edició del curs de balfolk europ
	eu! 💫\n\nEls dimecres des de el 29 d'abril al 17 de juny.\n\nL'horari\, co
	m sempre\, és de 19.30 a 20.45.\n\nLes inscripcions ja estàn obertes a l'e
	nllaç:\n\nhttps://rebrand.ly/BFTS26P [https://]\n\nEns ballem!
URL:https://calendari.femudatraca.cat/event/curs-de-balfolk-europeu-a-la-to
	rre-de-la-sagrera-33
GEO:41.4237915;2.1919173
LOCATION:Torre de la Sagrera - C/ de Berenguer de Palou\, 64-66\, 08027 Bar
	celona
STATUS:CONFIRMED
CATEGORIES:Balfolk,Balfolk Europeu,Ball Folk,Curs de ball,cursos,traDance
X-ALT-DESC;FMTTYPE=text/html:<p>Bon dia!</p><p>Ja comença la nova edició de
	l curs de balfolk europeu! 💫</p><p>Els dimecres des de el 29 d'abril al 17
	 de juny.</p><p>L'horari, com sempre, és de 19.30 a 20.45.</p><p>Les inscr
	ipcions ja estàn obertes a l'enllaç:</p><p><a href="https://" target="_bla
	nk">https://rebrand.ly/BFTS26P</a></p><p>Ens ballem!</p>
BEGIN:VALARM
ACTION:DISPLAY
DESCRIPTION:Curs de Balfolk Europeu a la Torre de la Sagrera
TRIGGER:-PT1H
END:VALARM
END:VEVENT
END:VCALENDAR
